BEGIN:VCALENDAR
VERSION:2.0
PRODID:-//ifacademy by IAS Finansial - ECPv6.15.20//NONSGML v1.0//EN
CALSCALE:GREGORIAN
METHOD:PUBLISH
X-WR-CALNAME:ifacademy by IAS Finansial
X-ORIGINAL-URL:https://ptias.id
X-WR-CALDESC:Events for ifacademy by IAS Finansial
REFRESH-INTERVAL;VALUE=DURATION:PT1H
X-Robots-Tag:noindex
X-PUBLISHED-TTL:PT1H
BEGIN:VTIMEZONE
TZID:UTC
BEGIN:STANDARD
TZOFFSETFROM:+0000
TZOFFSETTO:+0000
TZNAME:UTC
DTSTART:20250101T000000
END:STANDARD
END:VTIMEZONE
BEGIN:VEVENT
DTSTART;TZID=UTC:20260101T000000
DTEND;TZID=UTC:20271231T000000
DTSTAMP:20260419T143757
CREATED:20241213T223822Z
LAST-MODIFIED:20260209T003206Z
UID:7700-1767225600-1830211200@ptias.id
SUMMARY:Pelatihan (e-Course) Gelar Profesi Associate Wealth Planner- AWP (Belajar Mandiri)
DESCRIPTION:Dapatkan Gelar Profesi Associate Wealth Planner Certification kapan saja dan dimana saja. \n(BELAJAR MANDIRI NAMUN TETAP DIBIMBING OLEH MENTOR) \nKeuntungan mengikuti Kelas dengan metode e-learning\n✅ Waktu belajar flexible (24 jam)\n✅ Banyak latihan studi kasus\n✅ Bertemu dan diskusi dengan mentor membahas hal yang penting-penting saja sehingga hemat waktu anda \nASSOCIATE WEALTH PLANNER CERTIFICATION :\nAssociate Wealth Planner adalah Sertifikasi Gelar Profesi yang di miliki oleh AWP Academy. Total member AWP saat ini sejumlah 8000+ member \nKeuntungan mengikuti Kelas AWP\n✅ Peserta memahami Dasar Perencanaan Keuangan\n✅ Peserta memahami tentang Perencanaan Anggaran (Arus Kas dan Dana Darurat)\n✅ Peserta memahami tentang Konsep Time Value of Money\n✅ Peserta mampu menggunakan Aplikasi MyIFPE untuk menghitung perencanaan anggaran\, Asuransi Jiwa\, Pendidikan Anak\, Pensiun dll secara Digital.\n✅ Mendapatkan gelar profesi perencana keuangan AWP \nFasilitas e-learning Program\n✅ Akses LMS ifacademy 24 jam\n✅ Diberikan waktu 30 hari untuk mempelajari modul-modul dan latihan studi kasus\n✅ Dibimbing dan diskusi dengan mentor via online sampai lulus setiap Senin Malam pukul : 19.30 – 21.00\n✅ Mendapatkan Sertifikat baik softcopy dan hardcopy\n✅ Materi dalam bentuk PDF\n✅ Aplikasi MYIPE berlaku seumur hidup\n✅ Bergabung ke dalam group telegram alumni\n✅ Best Mentor FPSB Indonesia \nMentor : Vicko Hadian\, CFP\, QWP\, QLP\, AEPP\nProfile : www.ifac.or.id/vicko\n-The 1st Superstar Mentor 2022-2023\n-The Most Inspirational Mentor 2018-2022\n-Top Mentor AWP Syariah 2021- 2025\n-Best Mentor QWP 2021-2025 \nJangan buang waktu\, tenaga hanya karena anda sibuk tidak sempat-sempat untuk hadir di kelas zoom online\, Klik tombol di bawah untuk Daftar Kelas!
URL:https://ptias.id/event/7700/
LOCATION:e-Elearning & Mentoring\, Indonesia
ATTACH;FMTTYPE=image/jpeg:https://ptias.id/wp-content/uploads/2024/12/AWP-Flyer-2024-2.jpg
END:VEVENT
BEGIN:VEVENT
DTSTART;TZID=UTC:20260308T080000
DTEND;TZID=UTC:20260308T170000
DTSTAMP:20260419T143757
CREATED:20250320T020145Z
LAST-MODIFIED:20260209T000703Z
UID:8009-1772956800-1772989200@ptias.id
SUMMARY:Pelatihan (Online) Gelar Profesi Associate Wealth Planner (AWP)
DESCRIPTION:“Mau Tau Cara Menjadi Perencana Keuangan untuk Pribadi dan untuk Klien bahkan jadi Professional?” \n✅ Efeknya kamu menjadi pintar mengelola keuangan pribadi dan klien\n✅Bahkan kamu akan mendapatkan langsung gelar profesi perencana keuangan AWP yang diendorse oleh FPSB Indonesia\n✅Tips and Trick mengelola uang agar tujuan keuangan kamu segera tercapai \nDapatkan Gelar Profesi Associate Wealth Planner Certification melalui Zoom Online tanpa harus ke luar rumah! \nKeuntungan mengikuti Kelas dengan metode Zoom Online\n✅ Tidak harus keluar rumah dan macet-macetan\n✅ Hemat Biaya Perjalanan dan penginapan bila dari luar kota\n✅ Interaksi yang mudah dengan fitur chat atau interaksi langsung dengan mentor/fasilitator atau sesama peserta. \nASSOCIATE WEALTH PLANNER CERTIFICATION :\nAssociate Wealth Planner adalah Sertifikasi Gelar Profesi yang di miliki oleh AWP Academy dan di endorse oleh FPSB Indonesia. Total member AWP saat ini sejumlah 6900 member \nKeuntungan mengikuti Kelas AWP\n✅ Peserta memahami Dasar Perencanaan Keuangan\n✅ Peserta memahami tentang Perencanaan Anggaran (Arus Kas dan Dana Darurat)\n✅ Peserta memahami tentang Konsep Time Value of Money\n✅ Peserta mampu menggunakan Aplikasi MyIFPE untuk menghitung perencanaan anggaran\, Asuransi Jiwa\, Pendidikan Anak\, Pensiun dll secara Digital.\n✅ Mendapatkan gelar profesi perencana keuangan AWP yang berlaku seumur hidup \nFasilitas Kelas Zoom Online \n✅ Pelatihan satu hari dari pukul 09.00 – 16.00 WIB atau kelas malam selama 2 hari dari pukul 19.00 – 21.30 WIB\n✅ Mendapatkan Sertifikat AWP (Softcopy dan Hardcopy)\n✅ Materi dalam bentuk PDF\n✅ Aplikasi MYIPE berlaku seumur hidup\n✅ Bergabung ke dalam group telegram alumni : www.ptias.id/memberawp\n✅ Best Mentor AWP dan QWP \nMentor : Vicko Hadian\, CFP\, QWP\, QLP\, AEPP\nProfile : www.ifac.or.id/vicko\n-The 1st Superstar Mentor 2022-2025\n-The Most Inspirational Mentor 2018-2025\n-Top Mentor AWP Syariah 2021- 2025\n-Best Mentor QWP 2021-2025 \nJangan buang waktu\, tenaga dan buang uang\, Klik tombol di bawah untuk Daftar kelasnya!
URL:https://ptias.id/event/pelatihan-online-sertifikasi-gelar-profesi-associate-wealth-planner-awp-april-2025/
LOCATION:Zoom Meeting\, Indonesia
ATTACH;FMTTYPE=image/jpeg:https://ptias.id/wp-content/uploads/2026/02/AWP-Flyer-2024-1.jpg
END:VEVENT
END:VCALENDAR