BEGIN:VCALENDAR
VERSION:2.0
PRODID:-//ifacademy by IAS Finansial - ECPv6.15.20//NONSGML v1.0//EN
CALSCALE:GREGORIAN
METHOD:PUBLISH
X-WR-CALNAME:ifacademy by IAS Finansial
X-ORIGINAL-URL:https://ptias.id
X-WR-CALDESC:Events for ifacademy by IAS Finansial
REFRESH-INTERVAL;VALUE=DURATION:PT1H
X-Robots-Tag:noindex
X-PUBLISHED-TTL:PT1H
BEGIN:VTIMEZONE
TZID:UTC
BEGIN:STANDARD
TZOFFSETFROM:+0000
TZOFFSETTO:+0000
TZNAME:UTC
DTSTART:20240101T000000
END:STANDARD
END:VTIMEZONE
BEGIN:VTIMEZONE
TZID:Asia/Bangkok
BEGIN:STANDARD
TZOFFSETFROM:+0700
TZOFFSETTO:+0700
TZNAME:+07
DTSTART:20240101T000000
END:STANDARD
END:VTIMEZONE
BEGIN:VEVENT
DTSTART;TZID=UTC:20260118T090000
DTEND;TZID=UTC:20260118T160000
DTSTAMP:20260419T193459
CREATED:20241213T230321Z
LAST-MODIFIED:20251209T072942Z
UID:7709-1768726800-1768752000@ptias.id
SUMMARY:Pelatihan (Zoom Online) Gelar Profesi Associate Wealth Planner (AWP)
DESCRIPTION:“Mau Tau Cara Menjadi Perencana Keuangan untuk Pribadi dan untuk Klien bahkan jadi Professional?”\n✅ Efeknya kamu menjadi pintar mengelola keuangan pribadi dan klien\n✅Bahkan kamu akan mendapatkan langsung gelar profesi perencana keuangan AWP yang diendorse oleh FPSB Indonesia\n✅Tips and Trick mengelola uang agar tujuan keuangan kamu segera tercapai \nDapatkan Gelar Profesi Associate Wealth Planner Certification melalui Zoom Online tanpa harus ke luar rumah!\nKeuntungan mengikuti Kelas dengan metode Zoom Online \n✅ Tidak harus keluar rumah dan macet-macetan\n✅ Hemat Biaya Perjalanan dan penginapan bila dari luar kota\n✅ Interaksi yang mudah dengan fitur chat atau interaksi langsung dengan mentor/fasilitator atau sesama peserta. \nASSOCIATE WEALTH PLANNER CERTIFICATION :\nAssociate Wealth Planner adalah Sertifikasi Gelar Profesi yang di miliki oleh AWP Academy dan di endorse oleh FPSB Indonesia. Total member AWP saat ini sejumlah 6900 member\nKeuntungan mengikuti Kelas AWP \n✅ Peserta memahami Dasar Perencanaan Keuangan\n✅ Peserta memahami tentang Perencanaan Anggaran (Arus Kas dan Dana Darurat)\n✅ Peserta memahami tentang Konsep Time Value of Money\n✅ Peserta mampu menggunakan Aplikasi MyIFPE untuk menghitung perencanaan anggaran\, Asuransi Jiwa\, Pendidikan Anak\, Pensiun dll secara Digital.\n✅ Mendapatkan gelar profesi perencana keuangan AWP yang di endorse oleh FPSB Indonesia yang berlaku seumur hidup \nFasilitas Kelas Zoom Online \n✅ Pelatihan satu hari dari pukul 09.00 – 16.00 WIB atau kelas malam selama 2 hari dari pukul 19.00 – 21.30 WIB\n✅ Mendapatkan Sertifikat AWP (Softcopy dan Hardcopy)\n✅ Materi dalam bentuk PDF\n✅ Aplikasi MYIPE berlaku seumur hidup\n✅ Bergabung ke dalam group telegram alumni : www.ptias.id/memberawp\n✅ Best Mentor FPSB Indonesia \nMentor : Vicko Hadian\, CFP\, QWP\, QLP\, AEPP\nProfile : www.ifac.or.id/vicko\n-The 1st Superstar Mentor 2022-2023\n-The Most Inspirational Mentor 2018-2022\n-Top Mentor AWP Syariah 2021- 2024\n-Best Mentor QWP 2021-2024 \nJangan buang waktu\, tenaga dan buang uang\, Klik tombol di bawah untuk Daftar kelasnya!
URL:https://ptias.id/event/pelatihan-online-gelar-profesi-associate-wealth-planner-certification-januari-2025-kelas-malam/
LOCATION:Zoom Meeting\, Indonesia
ATTACH;FMTTYPE=image/jpeg:https://ptias.id/wp-content/uploads/2024/12/AWP-Flyer-20245.jpg
END:VEVENT
BEGIN:VEVENT
DTSTART;TZID=Asia/Bangkok:20251220T090000
DTEND;TZID=Asia/Bangkok:20251221T150000
DTSTAMP:20260419T193459
CREATED:20250120T125213Z
LAST-MODIFIED:20251024T020303Z
UID:7842-1766221200-1766329200@ptias.id
SUMMARY:Pelatihan (Online dan Tatap Muka) Gelar Profesi Qualified Wealth Planner (QWP)
DESCRIPTION:QUALIFIED WEALTH PLANNER CERTIFICATION :\nQualified Wealth Planner adalah Sertifikasi Gelar Profesi yang di miliki oleh QWP Academy dan di endorse oleh FPSB Indonesia. Total member QWP saat ini sejumlah 4700 orang. \nKeuntungan mengikuti Kelas QWP\n✅ Peserta memahami neracara keuangan dan catatan keuangan untuk pribadi atau klien\n✅ Peserta mampu memberikan analisa keuangan dan menjelaskan 8 rasio keuangan sesuai standard CFP\n✅ Peserta mampu menjelaskan profil risiko klien\n✅ Peserta mampu menggunakan aplikasi QWP dan memberikan solusi perencanaan keuangan untuk diri sendiri dan klien seperti kebutuhan asuransi jiwa\, Dana Pensiun\, perencanaan pendidikan anak\, pembelian rumah dll\n✅ 20 CPD point resertifikasi bagi pemegang gelar profesi RFP dan CFP\n✅ Mendapatkan gelar profesi perencana keuangan QWP yang di endorse oleh FPSB Indonesia yang berlaku seumur hidup \nFasilitas Kelas Zoom Online dan Tatap Muka\n✅ Pelatihan 2 hari dari pukul 09.00 – 16.00 WIB dijalankan dengan metode tatap muka dan Zoom Online (Hybrid)\n✅ Mendapatkan Sertifikat QWP (Softcopy dan Hardcopy)\n✅ Materi dalam bentuk PDF\n✅ Kartu QWP Elite Member ifacademy\n✅ Aplikasi MYIPE berlaku seumur hidup\n✅ Menjadi bagian dari alumni QWP Ifacademy : www.ptias.id/memberqwp\n✅ Bergabung ke dalam group telegram alumni QWP ifaademy\n✅ Fasilitator adalah Best Mentor FPSB Indonesia \nMentor : Vicko Hadian\, CFP\, QWP\, QLP\, AEPP\nProfile : www.ifac.or.id/vicko\n-The 1st Superstar Mentor 2022-2023\n-The Most Inspirational Mentor 2018-2022\n-Top Mentor AWP Syariah 2021- 2024\n-Best Mentor QWP 2021-2024 \nJangan buang waktu\, tenaga dan buang uang\, Klik tombol di bawah untuk Daftar kelasnya!
URL:https://ptias.id/event/pelatihan-zoom-online-gelar-profesi-qualified-wealth-planner-certification-februari-2025-kelas-weekend/
LOCATION:Darling Habits Bake & Butter\, Tebet Barat No 64\, Jakarta Selatan\, Indonesia
ATTACH;FMTTYPE=image/jpeg:https://ptias.id/wp-content/uploads/2024/12/QWP-Flyer-2023.jpg
END:VEVENT
BEGIN:VEVENT
DTSTART;TZID=UTC:20251214T080000
DTEND;TZID=UTC:20251214T170000
DTSTAMP:20260419T193459
CREATED:20241213T230949Z
LAST-MODIFIED:20251015T024026Z
UID:7713-1765699200-1765731600@ptias.id
SUMMARY:Pelatihan (Online) Gelar Profesi Associate Wealth Planner Syariah (AWPs)
DESCRIPTION:Dapatkan Gelar Profesi Associate Wealth Planner Syariah Certification melalui Zoom tanpa harus ke luar rumah! \nKeuntungan mengikuti Kelas dengan metode Zoom Online\n✅ Tidak harus keluar rumah dan macet-macetan\n✅ Hemat Biaya Perjalanan dan penginapan bila dari luar kota\n✅ Interaksi yang mudah dengan fitur chat atau interaksi langsung dengan mentor/fasilitator atau sesama peserta. \nASSOCIATE WEALTH PLANNER SYARIAH CERTIFICATION :\nAssociate Wealth Planner Syariah adalah Sertifikasi Gelar Profesi yang di miliki oleh AWP Academy dan di endorse oleh FPSB Indonesia. Total member AWP saat ini sejumlah 6900 member \nKeuntungan mengikuti Kelas AWP Syariah\n✅ Peserta memahami Dasar Perencanaan Keuangan Syariah\n✅ Peserta memahami tentang Perencanaan Anggaran (Arus Kas dan Dana Darurat) bedasarkan syariah\n✅ Peserta memahami tentang Konsep Time Value of Money\n✅ Peserta mampu menggunakan Aplikasi MyIFPE untuk menghitung perencanaan anggaran\, Asuransi Jiwa\, Pendidikan Anak\, Pensiun \, Dana Haji\, Wakaf dll secara Digital.\n✅ Mendapatkan gelar profesi perencana keuangan AWP Syariah yang di endorse oleh FPSB Indonesia. \nFasilitas Kelas Zoom Online\n✅ Pelatihan satu hari dari pukul 09.00 – 16.00 WIB atau kelas malam selama 2 hari dari pukul 19.00 – 21.30 WIB\n✅ Mendapatkan Sertifikat baik softcopy dan hardcopy\n✅ Materi dalam bentuk PDF\n✅ Aplikasi MYIPE Syariah berlaku seumur hidup\n✅ Bergabung ke dalam group telegram alumni\n✅ Fasilitator adalah Best Mentor FPSB Indonesia \nMentor : Vicko Hadian\, CFP\, QWP\, QLP\, AEPP\nProfile : www.ifac.or.id/vicko\n-The 1st Superstar Mentor 2022-2023\n-The Most Inspirational Mentor 2018-2022\n-Top Mentor AWP Syariah 2021- 2024\n-Best Mentor QWP 2021-2024 \nAyo bergabung bersama alumni AWP Syariah ifacademy : www.ptias.id/memberawps \nJangan buang waktu\, tenaga dan buang uang\, Klik tombol di bawah untuk Daftar kelasnya!
URL:https://ptias.id/event/pelatihan-online-gelar-profesi-associate-wealth-planner-syariah-desember-2024-kelas-weekend/
LOCATION:Zoom Meeting\, Indonesia
ATTACH;FMTTYPE=image/jpeg:https://ptias.id/wp-content/uploads/2024/12/AWP-Syariah-Flyer-2024.jpg
END:VEVENT
BEGIN:VEVENT
DTSTART;TZID=UTC:20250423T080000
DTEND;TZID=UTC:20250424T170000
DTSTAMP:20260419T193459
CREATED:20250330T033337Z
LAST-MODIFIED:20250330T123122Z
UID:8113-1745395200-1745514000@ptias.id
SUMMARY:Pelatihan (Tatap Muka) Associate Estate Planner Practitioner & Qualified Legacy Planner QLP - Jakarta April 2025
DESCRIPTION:Pelatihan Gelar Profesi AEPP dan QLP kembali dibuka \nRabu & Kamis\, 23 & 24 April 2025 \nPukul : 09.00 – 17.00 WIB \nLokasi : Jakarta Design Center – Jakarta Barat \nMentor : Bapak Tri Djoko Santoso\, CFP ; Henra Sensei\, CFP dll \nBiaya : Rp 6.000.000\,- (Double Certificate)
URL:https://ptias.id/event/pelatihan-tatap-muka-associate-estate-planner-practitioner-qualified-legacy-planner-qlp-jakarta-april-2025/
ATTACH;FMTTYPE=image/jpeg:https://ptias.id/wp-content/uploads/2023/04/Flyer-AWP-2021.jpg
END:VEVENT
END:VCALENDAR